BEGIN:VCALENDAR
VERSION:2.0
PRODID:-//wp-events-plugin.com//7.2.3.1//EN
TZID:America/New_York
X-WR-TIMEZONE:America/New_York
BEGIN:VEVENT
UID:712@clevelandphoto.org
DTSTART;TZID=America/New_York:20250713T090000
DTEND;TZID=America/New_York:20250713T110000
DTSTAMP:20250521T094233Z
URL:https://www.clevelandphoto.org/events/whispering-acres-farm-animal-san
 ctuary/
SUMMARY:Whispering Acres Farm Animal Sanctuary
DESCRIPTION:\n\nWhispering Acres Farm Animal Sanctuary\n\nJuly 13 2025\n\n9
 am\n\nCPS is pleased to announce a return field trip to\,\n\n Whispering 
 Acres Farm Animal Sanctuary\n\nwhos  mission is to provide a safe and lov
 ing home for abused and neglected farm animals.\n\nThis sanctuary is a buf
 fet of images as well as some loving from these sweet animals!\n\nPlease w
 ear clothes that are NOT your Sunday best and closed toe shoes or boots. \
 n\nTo attend this field trip you just pay $20 donation to our host who wil
 l be there to guide us.\n\nPlease arrive on time so I can check you in.\n\
 n(this is a 501-3c so yes donations more than 20 are gladly accepted and t
 ax-deductible)\n\nThere is no limit for attendance as well as new and impr
 oved parking.\n\nLet me know you are coming please and thank you!\n\nJuly 
 13 2025\n\n9am\n\nThe Whispering Acres Farm Animal Sanctuary is located at
  7496 Norwalk Rd\, Medina\, OH 44256-8972. \n\nhttps://www.whisperingacr
 essanctuary.com/\n\nQuestions or concerns? Call me or email me at fieldtri
 ps@clevelandphoto.org\n\nKim Wasielewski\n\n440 570 5968\n\n \n\n&nbsp\;
END:VEVENT
BEGIN:VTIMEZONE
TZID:America/New_York
X-LIC-LOCATION:America/New_York
BEGIN:DAYLIGHT
DTSTART:20250309T030000
TZOFFSETFROM:-0500
TZOFFSETTO:-0400
TZNAME:EDT
END:DAYLIGHT
END:VTIMEZONE
END:VCALENDAR