BEGIN:VCALENDAR
VERSION:2.0
PRODID:-//wp-events-plugin.com//7.2.3.1//EN
TZID:America/New_York
X-WR-TIMEZONE:America/New_York
BEGIN:VEVENT
UID:648@clevelandphoto.org
DTSTART;TZID=America/New_York:20250601T143000
DTEND;TZID=America/New_York:20250601T160000
DTSTAMP:20250322T112919Z
URL:https://www.clevelandphoto.org/events/westlake-porter-library-opening-
 reception/
SUMMARY:Westlake Porter Library "Water" Exhibit Opening Reception
DESCRIPTION:Celebrate the opening of this exhibit!  It is a wonderful oppo
 rtunity to meet and engage with club members!  Light refreshments will be
  provided.  Open to all CPS members and non-members.\n\nWestlake Porter L
 ibrary | 27333 Center Ridge Rd | Westlake
END:VEVENT
BEGIN:VTIMEZONE
TZID:America/New_York
X-LIC-LOCATION:America/New_York
BEGIN:DAYLIGHT
DTSTART:20250309T030000
TZOFFSETFROM:-0500
TZOFFSETTO:-0400
TZNAME:EDT
END:DAYLIGHT
END:VTIMEZONE
END:VCALENDAR