BEGIN:VCALENDAR
VERSION:2.0
PRODID:-//wp-events-plugin.com//7.2.3.1//EN
TZID:America/New_York
X-WR-TIMEZONE:America/New_York
BEGIN:VEVENT
UID:330@clevelandphoto.org
DTSTART;TZID=America/New_York:20240817T080000
DTEND;TZID=America/New_York:20240817T120000
DTSTAMP:20240816T095948Z
URL:https://www.clevelandphoto.org/events/west-side-lighthouses-field-trip
 /
SUMMARY:West Side Lighthouses Field Trip - Canceled
DESCRIPTION:Itinerary: This event has been canceled.  It will be reschedul
 ed in the future.\n\nWho: There is no cost for this field trip.  Particip
 ants are responsible for parking fees.  The field trip is open to EVERYON
 E.\n\n&nbsp\;\n\nWhere: Meeting point: Marblehead Lighthouse\n\nFor a map:
  click here\n\n&nbsp\;\n\nEquipment: Camera. Various interchangeable lens 
 including wide-angle\, telephoto (min. 400mm)\, or multi-purpose zoom lens
 \, tripod (recommended). Extra batteries\, and memory cards\, etc. and dre
 ss appropriately to the weather forecast. If it is warm\, you may need bug
  spray\n\n&nbsp\;\n\nAdditional Information:\n\nLink: Marblehead Lighthous
 e\n\nLink: Huron Lighthouse\n\nLink: Vermillion Lighthouse\n\nLink: Lorain
  Harbor Lighthouse\n\nIn addition\, there are a few options for lunch alon
 g the way.\n\n&nbsp\;\nCourtesy:\nRemember to be cognizant of other photog
 raphers when you are walking around or preparing to set up you tripod or t
 ake a photo (look around to see if you might be in another photographer's 
 viewing angle). If you see another photographer already setting up their s
 hot please be courteous and stay out of their line of shooting. If you hav
 e a good location\, please be prudent with your time so that other photogr
 aphers might also have the opportunity to capture their spectacular images
  from that or a nearby location as well. You should also move from the int
 ended field of view as well\, and not linger or be involved in a conversat
 ion that could take place elsewhere. Please note that this ettiquette appl
 ies indoors (in a church for example) or outside even where the photograph
 er "aiming" in your direction might be several hundreds of feet away. Also
 \, be careful when you stand up or back up with your long lens\, there mig
 ht be a fellow photographer behind you that you might bump into. Follow th
 e old adage: do unto a fellow photographer as you would with another photo
 grapher would do to you!\n\nField Trip Sponsor: Thank you\, Jerry Phenney 
 for coordinating!\n\n&nbsp\;\n\nAdditional Questions: Email: Field Trips\n
 \n&nbsp\;\n\nPLEASE NOTE: As with all field trips\, CPS cannot be held res
 ponsible for any accidents or injuries - participate at your own risk.\n\n
 &nbsp\;
END:VEVENT
BEGIN:VTIMEZONE
TZID:America/New_York
X-LIC-LOCATION:America/New_York
BEGIN:DAYLIGHT
DTSTART:20240310T030000
TZOFFSETFROM:-0500
TZOFFSETTO:-0400
TZNAME:EDT
END:DAYLIGHT
END:VTIMEZONE
END:VCALENDAR