BEGIN:VCALENDAR
VERSION:2.0
PRODID:-//wp-events-plugin.com//7.2.3.1//EN
TZID:America/New_York
X-WR-TIMEZONE:America/New_York
BEGIN:VEVENT
UID:895@clevelandphoto.org
DTSTART;TZID=America/New_York:20260904T193000
DTEND;TZID=America/New_York:20260904T210000
DTSTAMP:20260327T123455Z
URL:https://www.clevelandphoto.org/events/wally-nell-photographer/
SUMMARY:Photographer Wally Nell & Photographer Bill Keaton presents "STORY 
 TELLING IN 7 IMAGES." This will be in-person. Club will be open.
DESCRIPTION:
END:VEVENT
BEGIN:VTIMEZONE
TZID:America/New_York
X-LIC-LOCATION:America/New_York
BEGIN:DAYLIGHT
DTSTART:20260308T030000
TZOFFSETFROM:-0500
TZOFFSETTO:-0400
TZNAME:EDT
END:DAYLIGHT
END:VTIMEZONE
END:VCALENDAR