BEGIN:VCALENDAR
VERSION:2.0
PRODID:-//wp-events-plugin.com//7.2.3.1//EN
TZID:America/New_York
X-WR-TIMEZONE:America/New_York
BEGIN:VEVENT
UID:782@clevelandphoto.org
DTSTART;TZID=America/New_York:20250822T193000
DTEND;TZID=America/New_York:20250822T210000
DTSTAMP:20250806T183452Z
URL:https://www.clevelandphoto.org/events/wally-nell-photographer-in-perso
 n-club-will-be-open/
SUMMARY:Wally Nell Photographer\,    "NATURAL LIGHT PORTRAITS"        In-Pe
 rson\, Club will be open
DESCRIPTION:\nNATURAL LIGHT PORTRAITS\nABOUT WALLY NELL\n\nWally Nell (FPSS
 A\,FPPSDC)\, originally from South Africa\, has lived in Egypt for 6 years
  and is now back in the United States\, currently in the Akron/Cleveland\,
  Ohio area. He is a professional freelance photographer who has contribute
 d to ZUMA Press\, and other publications and news agencies while working b
 oth in the Middle East covering news and documentary work\, and covering s
 port and other event photography in the USA. He bought his first camera in
  1984 and by 1986 he was doing sport and photojournalism for The Star\, a 
 major newspaper in South Africa. He accredits some of his initial growth t
 o the fact that he belonged to a camera club in Johannesburg\, and the fri
 endly rivalry he had with fellow photographers. As an amateur photographer
  he received a Fellowship from the Photographic Society of Southern Africa
  (FPSSA).\n\nIn 1990 he moved to the United States and eventually settled 
 in San Diego\, CA. During his time in the US\, his clients required sport 
 photography\, portraiture\, journalism and wedding photography. He has rec
 eived numerous awards and has had a number of exhibitions in various locat
 ions both as part of exhibitions and alone. As a professional photographer
  he joined the Professional Photographers of San Diego and soon gained a F
 ellowship from them as well (FPPSDC). He has been reported on by a San Die
 go newspaper for his wedding photography\, and a national sport magazine d
 id an article on him on his volleyball photography.\n\nAmong others\, his 
 work has appeared in Sports Illustrated\, National Geographic Traveler\, O
 utside Magazine\, New York Times\, London Times\, North County Times\, Hon
 olulu Star Advertiser\, The Star\, Volleyball Magazine\, DIG Magazine\, So
 uthern California Home and Outdoor magazine\, San Diego Sport Magazine\; a
 nd commercial clients include NIKE\, SPEEDO\, VISA\, Mountain Dew\, Club S
 portswear\, Freestyle Watches\, the United Nations and many more. His imag
 es have graced the covers of many magazines.\n\nHe has also been an invite
 d photographic presenter/lecturer in a number of international institution
 s in the USA\, Mexico\, South Africa\, Australia and Egypt\, and has devel
 oped course material for photography schools.\n\nWhile covering the Egypti
 an Revolution in early 2011\, he was shot while covering protests\, but ha
 s fully recovered.\n\nwww.wallynell.com
END:VEVENT
BEGIN:VTIMEZONE
TZID:America/New_York
X-LIC-LOCATION:America/New_York
BEGIN:DAYLIGHT
DTSTART:20250309T030000
TZOFFSETFROM:-0500
TZOFFSETTO:-0400
TZNAME:EDT
END:DAYLIGHT
END:VTIMEZONE
END:VCALENDAR