BEGIN:VCALENDAR
VERSION:2.0
PRODID:-//wp-events-plugin.com//7.2.3.1//EN
TZID:America/New_York
X-WR-TIMEZONE:America/New_York
BEGIN:VEVENT
UID:575@clevelandphoto.org
DTSTART;TZID=America/New_York:20241220T193000
DTEND;TZID=America/New_York:20241220T223000
DTSTAMP:20241215T184436Z
URL:https://www.clevelandphoto.org/events/using-compositional-tools-to-cre
 ate-intimate-landscapes-susan-milinkovich-in-person-presentation-club-will
 -be-open/
SUMMARY:50 Years of Shooting out of the Box - James Rudick\, MD - The clubh
 ouse  will be open
DESCRIPTION:\n\nJames Rudick\, MD\n\nFirst off\, I am honored to join you f
 or a brief presentation of my photography\, especially\nsince I have no fo
 rmal photographic training\, nor am I expert in any facet of\nphotography\
 , as many of you certainly are.\n\nWhat I have to offer\, perhaps\, is ram
 pant curiosity\, and brazen attempts to sample the\nworld through the came
 ra lens\, without regard to precedent\, technique\, or “rules”.\nI am 
 now 74\, and have been in love with the camera for half a century. I spent
  too many\nlonely hours in the darkroom\, but quickly welcomed the digital
  revolution\, never looking\nback.\n\nThe universe is enormous\, and also 
 infinitesimally small. Our eyes\, unaided\, miss most\nof the splendor. Wh
 at I try to accomplish is to broaden our vision\, just a little.\n\nSo I
 ’ve taken the camera all over the world\, under the sea\, in the air\, a
 nd into outer space\nfilming in color\, black and white\, stereo\, 360\, a
 nd infrared\, time-lapse and slow motion\,\nsometimes with the help of a C
 elestron telescope or a DJI drone. Nothing off-limits\, and\njust for fun.
 \n\nYou can find Jim's website at jamesrudick.com\n
END:VEVENT
BEGIN:VTIMEZONE
TZID:America/New_York
X-LIC-LOCATION:America/New_York
BEGIN:STANDARD
DTSTART:20241103T010000
TZOFFSETFROM:-0400
TZOFFSETTO:-0500
TZNAME:EST
END:STANDARD
END:VTIMEZONE
END:VCALENDAR