BEGIN:VCALENDAR
VERSION:2.0
PRODID:-//wp-events-plugin.com//7.2.3.1//EN
TZID:America/New_York
X-WR-TIMEZONE:America/New_York
BEGIN:VEVENT
UID:459@clevelandphoto.org
DTSTART;TZID=America/New_York:20250314T193000
DTEND;TZID=America/New_York:20250314T210000
DTSTAMP:20250217T053216Z
URL:https://www.clevelandphoto.org/events/unavailable/
SUMMARY:Sportraits - Transforming Athleticism into Art - Justin Foster Phot
 ographer - In person presentation - Club will be open
DESCRIPTION:\n\n&nbsp\;\n\nBio: Justin Foster is a portrait photographer in
  Hudson\, OH specializing in high school seniors. Whenever possible\, he l
 oves capturing them in their element doing what they enjoy most - which of
 ten includes sports\, music\, dance\, and other hobbies. He has enjoyed ph
 otography since he was a high school senior himself\, but started Justin F
 oster Photography and taking on clients in 2017. Full time he manages an e
 ngineering team for Current Lighting Controls\, a very left-brained career
 \, so photography provides some right-brained opportunity for creative bal
 ance.\n\nTalk Description: Join me for a dynamic in-person workshop where 
 I’ll demonstrate the art of capturing powerful "sportraits" of a young a
 thlete using studio lighting and strategic posing. This interactive sessio
 n will break down essential lighting techniques\, pose direction\, and sto
 rytelling to bring out the passion and intensity — an explosive jump\, a
  clenched fist\, a determined gaze. Each shot tells a story of grit and pa
 ssion\, where every muscle\, every drop of sweat\, speaks of perseverance 
 and triumph. You'll have the opportunity to ask questions and gain practic
 al insights to elevate your own work. Whether you're new to sportraits or 
 looking to refine your skills\, this workshop will provide the tools and i
 nspiration to create striking\, high-impact images.\n\nWebsite: www.justin
 foster.photo\n\nTitle: Sportraits - Transforming Athleticism into Art
END:VEVENT
BEGIN:VTIMEZONE
TZID:America/New_York
X-LIC-LOCATION:America/New_York
BEGIN:DAYLIGHT
DTSTART:20250309T030000
TZOFFSETFROM:-0500
TZOFFSETTO:-0400
TZNAME:EDT
END:DAYLIGHT
END:VTIMEZONE
END:VCALENDAR