BEGIN:VCALENDAR
VERSION:2.0
PRODID:-//wp-events-plugin.com//7.2.3.1//EN
TZID:America/New_York
X-WR-TIMEZONE:America/New_York
BEGIN:VEVENT
UID:781@clevelandphoto.org
DTSTART;TZID=America/New_York:20250907T080000
DTEND;TZID=America/New_York:20250907T110000
DTSTAMP:20250807T210101Z
URL:https://www.clevelandphoto.org/events/tunnels-to-towers-foundation-5k-
 run-and-walk-medina-oh/
SUMMARY:TUNNELS TO TOWERS FOUNDATION  5K RUN AND WALK MEDINA\, OH
DESCRIPTION:\n\n&nbsp\;\n\n&nbsp\;\n\nTUNNELS TO TOWERS FOUNDATION \n\n5K R
 UN AND WALK MEDINA\, OH\n\nSunday September 7\, 2025 8am\n\nHistoric Publi
 c Square\, Medina OH 44256\n\n93 Public Square is where it all starts.\n\n
 &nbsp\;\n\nPark in the closed Rite Aid Parking lot medina\n\n207 North Cou
 rt Street Medina OH\n\nMany streets are closed due to the race. You can al
 so google parking garages near Medina Square if you choose alternate parki
 ng.\n\n&nbsp\;\n\nBorn from the tragedy of 9/11\, the Tunnel to Towers Fou
 ndation carries forward a legacy of courage and heroism. Built upon the Ma
 ntra\, “While we have time\, LET US DO GOOD\,” the foundation supports
  our nation’s fallen and catastrophically injured first responders\, mil
 itary heroes\, and their families.\n\n&nbsp\;\n\n8am starts the speeches a
 nd the color guard in the square. Once the race starts you can park yourse
 lf where ever you would like for some amazing photos. The place I like to 
 go is the firehouse where the racers pour out of the doors with their gear
  on.\n\nMedina Fire Department Station Number 1\n\n(also has a flight 93 m
 emorial)\n\n&nbsp\;\n\n300 W Reagan Pkwy\, Medina\, OH 44256\n\n&nbsp\;\n\
 nfieldtrips@clevelandphoto.org\n\n440 570 5968\n\nThere are so many sites 
 and visuals\, you will not be disappointed. So find me (Kim Wasielewski 44
 0 570 5968 and I will lead you to the fire house after the start)\n\nPLEAS
 E WEAR YOUR CPS NAMETAG SO WE CAN FIND EACH OTHER
END:VEVENT
BEGIN:VTIMEZONE
TZID:America/New_York
X-LIC-LOCATION:America/New_York
BEGIN:DAYLIGHT
DTSTART:20250309T030000
TZOFFSETFROM:-0500
TZOFFSETTO:-0400
TZNAME:EDT
END:DAYLIGHT
END:VTIMEZONE
END:VCALENDAR