BEGIN:VCALENDAR
VERSION:2.0
PRODID:-//wp-events-plugin.com//7.2.3.1//EN
TZID:America/New_York
X-WR-TIMEZONE:America/New_York
BEGIN:VEVENT
UID:874@clevelandphoto.org
DTSTART;TZID=America/New_York:20260221T083000
DTEND;TZID=America/New_York:20260221T110000
DTSTAMP:20251208T175358Z
URL:https://www.clevelandphoto.org/events/trinity-cathedral-field-trip/
SUMMARY:TRINITY CATHEDRAL FIELD TRIP
DESCRIPTION:TRINITY CATHEDRAL FIELD TRIP\n\nJoin us for a beautiful field t
 rip to Trinity Cathedral\, beginning with a short tour by Eric Travis\n\nD
 esigned by Charles F. Schweinfurth\, noted architect of many Cleveland chu
 rches and landmarks\, Trinity Cathedral is an awe-inspiring example of ne
 o-perpendicular Gothic architecture. The cathedral is cruciform\, built 
 in the shape of a cross. Every detail tells a story\, from the intricate s
 tained glass windows to the dark oak millwork. Gothic cathedrals are often
  described as parables in stone\, designed to unite the “earthly city”
  with the yearnings for the “heavenly city.” Trinity Cathedral’s tra
 nscendent beauty does just that\, serving as a sacred space for all people
 .\n\nhttps://www.trinitycleveland.org/\n\n&nbsp\;\n\nWHEN: February 21 202
 6\n\n8:30-11:00am (when the light will be just right)\n\n2333 Prospect Ave
 \n\nCleveland oh 44115\n\nPARKING: will be open but if not take a ticket a
 nd you will get it validated\n\n&nbsp\;\n\nTRIPODS: are allowed\n\n&nbsp\;
 \n\nYOUR INVESTMENT: 20$ donation accepted that day\n\n&nbsp\;\n\nPHOTOS: 
 the church would appreciate any photos you can send along to\n\netravis@tr
 initycleveland.org your photos are for personal use only\n\n&nbsp\;\n\nReg
 ister here:\n\nhttps://www.clevelandphoto.org/programs/field-trips/trinity
 -cathedral/\n\n&nbsp\;\n\nQUESTIONS:\n\n&nbsp\;\n\nfieldtrips@clevelandpho
 to.org\n\nKim Wasielewski Field Trip Chair 440 570 5968\n\n
END:VEVENT
BEGIN:VTIMEZONE
TZID:America/New_York
X-LIC-LOCATION:America/New_York
BEGIN:STANDARD
DTSTART:20251102T010000
TZOFFSETFROM:-0400
TZOFFSETTO:-0500
TZNAME:EST
END:STANDARD
END:VTIMEZONE
END:VCALENDAR