BEGIN:VCALENDAR
VERSION:2.0
PRODID:-//wp-events-plugin.com//7.2.3.1//EN
TZID:America/New_York
X-WR-TIMEZONE:America/New_York
BEGIN:VEVENT
UID:522@clevelandphoto.org
DTSTART;TZID=America/New_York:20250509T193000
DTEND;TZID=America/New_York:20250509T210000
DTSTAMP:20241027T161130Z
URL:https://www.clevelandphoto.org/events/topaz-photo-ai-now-gary-woods/
SUMMARY:TOPAZ PHOTO AI NOW - Gary Woods  IN PERSON PRESENTATION
DESCRIPTION:\n\nGary studied photography at the University of Minnesota in 
 the late 1970’s.  He joined CPS in 1982. Family life and work became mor
 e demanding\, and he left CPS until he retired and rejoined in 2018. He th
 en took all the classes offered by CPS and now enjoys the competitions\, m
 entoring\, fieldtrips\, and workshops. Gary has chosen to remain a non-pro
 fessional that primarily photographs nature\, travel\, and special events.
  He has contributed several photographs to Snapshot\, an article to Darkro
 om Door\, has mentored how to photograph birds in flight\, and presented a
  previous description of Topaz Photo AI.\n\n\nTopaz Photo AI NOW\n\nI will
  demonstrate how I use the current Topaz Photo AI features: RAW Denoise\, 
 Denoise Non-RAW\, and Sharpen. There have been many changes to these Topaz
  Photo AI features since my previous presentation. I will also show the pr
 oblems I have encountered with these features and how to fine the support 
 documents for Topaz Photo AI. If you are using Topaz Photo AI\, please fee
 l free to add your suggestions or warnings.\n
END:VEVENT
BEGIN:VTIMEZONE
TZID:America/New_York
X-LIC-LOCATION:America/New_York
BEGIN:DAYLIGHT
DTSTART:20250309T030000
TZOFFSETFROM:-0500
TZOFFSETTO:-0400
TZNAME:EDT
END:DAYLIGHT
END:VTIMEZONE
END:VCALENDAR