BEGIN:VCALENDAR
VERSION:2.0
PRODID:-//wp-events-plugin.com//7.2.3.1//EN
TZID:America/New_York
X-WR-TIMEZONE:America/New_York
BEGIN:VEVENT
UID:282@clevelandphoto.org
DTSTART;TZID=America/New_York:20240920T193000
DTEND;TZID=America/New_York:20240920T210000
DTSTAMP:20231231T210804Z
URL:https://www.clevelandphoto.org/events/the-inverse-square-law-the-most-
 important-lighting-tool-for-photographerszoom-presentation-clubhouse-will-
 be-open/
SUMMARY:The Inverse Square Law: The MOST Important Lighting Tool for Photog
 raphers:Zoom Presentation Clubhouse will be open
DESCRIPTION:&nbsp\;\nThe Inverse Square Law\nThe MOST Important Lighting To
 ol for Photographers\nThe Inverse Square Law is potentially the most misun
 derstood aspect of photography. That is likely because it is actually phys
 ics. The good news is that you don’t need to be great at physics or math
  to put it to work for you.\n\nIn this presentation\, Joe will help you un
 derstand the Inverse Square Law\, and we will look at how it impacts ALL o
 f your photographs. Indoors\, outdoors\, natural or artificial light\, the
  Inverse Square Law can be your best friend or worst enemy if you ignore i
 t.\n\nIf you aren’t convinced yet\, a solid command of the Inverse Squar
 e Law can save you thousands of dollars in modifiers!\nWhat you will learn
 :\n\n 	How to build the Inverse Square Law into your lighting thought proc
 ess\n 	How modifiers impact the Inverse Square Law\n 	How to use the Inver
 se Square Law as a virtual modifier for your lighting setup\n 	. . .and mu
 ch more!\n\n\n\n\n\n\n\nJoe Edelman is an award-winning photographer\, aut
 hor\, and photo educator.\n\nHis educational mission: "To help photographe
 rs to develop a solid understanding of the HOWS and WHYS behind creating g
 reat photographs."\n\nJoe is honored to hold the title of Photographic Cra
 ftsman\, a designation given to those who have met the standards of excell
 ence set by the Professional Photographers of America in recognition of se
 rvice to the photographic profession as an orator\, author\, and mentor.\n
 \nHe takes great pride in sharing his experience as the host of the weekly
  The LAST FRAME Live a 60-minute photography Livestream that appears on Yo
 uTube. His channel boasts 300 + videos viewed over 11.8 million times by m
 ore than 180\,000 subscribers in 114 countries.\n\nJoe has also earned a r
 eputation as a lively and popular presenter at photography conferences and
  is frequently featured on major photography news websites and podcasts.\n
 \nFrom his start as a newspaper photojournalist while still in high school
  to his work today photographing all types of people\, his photographs hav
 e been published internationally in magazines like Maxim\, Cosmopolitan\, 
 Get Fit\, and Shape\, to name but a few. He has been called upon to comple
 te assignments for the New York Times and The Los Angeles Times and has se
 rviced commercial advertising clients from all over the United States.\n\n
 Website: https://www.joeedelman.com YouTube Channel: https://www.youtube.c
 om/@thejoeedelman\n\nCONNECT WITH JOE ON SOCIAL MEDIA — INSTAGRAM: https
 ://instagram.com.joeedelman — FACEBOOK: https://facebook.com/thejoeedelm
 an — TWITTER: https://twitter.com/joeedelman — PINTEREST: https://www.
 pinterest.com/thejoeedelman\n\n
END:VEVENT
BEGIN:VTIMEZONE
TZID:America/New_York
X-LIC-LOCATION:America/New_York
BEGIN:DAYLIGHT
DTSTART:20240310T030000
TZOFFSETFROM:-0500
TZOFFSETTO:-0400
TZNAME:EDT
END:DAYLIGHT
END:VTIMEZONE
END:VCALENDAR