BEGIN:VCALENDAR
VERSION:2.0
PRODID:-//wp-events-plugin.com//7.2.3.1//EN
TZID:America/New_York
X-WR-TIMEZONE:America/New_York
BEGIN:VEVENT
UID:3@clevelandphoto.org
DTSTART:20230105T000000Z
DTEND:20230105T180000Z
DTSTAMP:20221226T180728Z
URL:https://www.clevelandphoto.org/events/the-cabin-fever-party-is-back-sa
 ve-the-date/
SUMMARY:The Cabin Fever Party is Back - Save the Date
DESCRIPTION:We will be resuming our annual Cabin Fever Party after the holi
 days after a two year absence. There will be food\, fun and our own Robber
 's Auction. The date will be Saturday\, January 21\, 2023 so save that dat
 e! More details will follow as we get closer to the date.
ATTACH;FMTTYPE=image/jpeg:https://www.clevelandphoto.org/wp-content/upload
 s/2022/12/10-Copie.jpg
END:VEVENT
END:VCALENDAR