BEGIN:VCALENDAR
VERSION:2.0
PRODID:-//wp-events-plugin.com//7.2.3.1//EN
TZID:America/New_York
X-WR-TIMEZONE:America/New_York
BEGIN:VEVENT
UID:265@clevelandphoto.org
DTSTART;TZID=America/New_York:20240329T193000
DTEND;TZID=America/New_York:20240329T210000
DTSTAMP:20231010T183426Z
URL:https://www.clevelandphoto.org/events/the-art-of-seeing/
SUMMARY:THE ART OF SEEING
DESCRIPTION:\nMarch 29 2024\n \n7:30pm \nThe Art of Seeing A live zoom ev
 ent. Clubhouse will be open.\nSuccess in Photography Is in the Details\nWe
  all want to make great photographs. Yet our best efforts often fall short
  of our aspirations. We followed the rules\, lit it right\, exposed it\, p
 osed it right\, composed it right\, and processed it right… but somethin
 g is often missing. The image doesn’t have the impact that we had hoped 
 for.\n\nThis is a fun and thought-provoking talk explaining the science be
 hind “seeing” and why humans are so bad at seeing details. Using a com
 bination of science\, psychology\, art\, and humor\, Joe will demonstrate 
 how personal perspective and attention to detail\, instead of RULES\, will
  separate the good from the great.\n\nThe presentation includes videos and
  a demonstration showing how you can dramatically improve your photographs
 \, whatever the subject matter\, by enhancing your ability to “see.”\n
 What you will learn:\n\n 	Why is it so hard to “see” all the details i
 n real time? We will look at the science behind why humans struggle with d
 etails.\n 	How to take great photographs without paying attention to RULES
 .\n 	The importance of FAILURE to improving as a photographer.\n 	Joe’s 
 TOP 18 TIPS for improving your ability to “SEE.”\n 	… and much more!
 \n\n\n\n\n Bio\n\n\n\nJoe Edelman is an award-winning photographer\, auth
 or\, and photo educator.\n\nHis educational mission: "To help photographer
 s to develop a solid understanding of the HOWS and WHYS behind creating gr
 eat photographs."\n\nJoe is honored to hold the title of Photographic Craf
 tsman\, a designation given to those who have met the standards of excelle
 nce set by the Professional Photographers of America in recognition of ser
 vice to the photographic profession as an orator\, author\, and mentor.\n\
 nHe takes great pride in sharing his experience as the host of the weekly 
 The LAST FRAME Live a 60-minute photography Livestream that appears on You
 Tube. His channel boasts 300 + videos viewed over 11.8 million times by mo
 re than 180\,000 subscribers in 114 countries.\n\nJoe has also earned a re
 putation as a lively and popular presenter at photography conferences and 
 is frequently featured on major photography news websites and podcasts.\n\
 nFrom his start as a newspaper photojournalist while still in high school 
 to his work today photographing all types of people\, his photographs have
  been published internationally in magazines like Maxim\, Cosmopolitan\, G
 et Fit\, and Shape\, to name but a few. He has been called upon to complet
 e assignments for the New York Times and The Los Angeles Times and has ser
 viced commercial advertising clients from all over the United States.\n\nW
 ebsite: https://www.joeedelman.com YouTube Channel: https://www.youtube
 .com/@thejoeedelman\n\n\n
END:VEVENT
BEGIN:VTIMEZONE
TZID:America/New_York
X-LIC-LOCATION:America/New_York
BEGIN:DAYLIGHT
DTSTART:20240310T030000
TZOFFSETFROM:-0500
TZOFFSETTO:-0400
TZNAME:EDT
END:DAYLIGHT
END:VTIMEZONE
END:VCALENDAR