BEGIN:VCALENDAR
VERSION:2.0
PRODID:-//wp-events-plugin.com//7.2.3.1//EN
TZID:America/New_York
X-WR-TIMEZONE:America/New_York
BEGIN:VEVENT
UID:261@clevelandphoto.org
DTSTART;TZID=America/New_York:20240209T193000
DTEND;TZID=America/New_York:20240209T200000
DTSTAMP:20240203T161327Z
URL:https://www.clevelandphoto.org/events/the-accessories-you-didnt-know-y
 ou-needed-or-existed/
SUMMARY:The accessories you didn't know you needed\, or existed
DESCRIPTION:"The Accessories you didn't know you needed... or even existed"
 \nEric Wethington of Dodd Camera will be informing us on the gizmos\, gadg
 ets and gear we didn't think we needed but we really want now!\n\nProduct 
 samples might include: LED panel lights\, remotes\, cleaning supplies\, fi
 lters\, bags\, specialty 35mm film\, tube lights\, directional and wireles
 s microphones\, memory cards\, pop up back drops\, etc.\n&nbsp\;\n\n
END:VEVENT
BEGIN:VTIMEZONE
TZID:America/New_York
X-LIC-LOCATION:America/New_York
BEGIN:STANDARD
DTSTART:20231105T010000
TZOFFSETFROM:-0400
TZOFFSETTO:-0500
TZNAME:EST
END:STANDARD
END:VTIMEZONE
END:VCALENDAR