BEGIN:VCALENDAR
VERSION:2.0
PRODID:-//wp-events-plugin.com//7.2.3.1//EN
TZID:America/New_York
X-WR-TIMEZONE:America/New_York
BEGIN:VEVENT
UID:777@clevelandphoto.org
DTSTART;TZID=America/New_York:20260410T193000
DTEND;TZID=America/New_York:20260410T210000
DTSTAMP:20260409T013300Z
URL:https://www.clevelandphoto.org/events/terry-vanderheiden-how-to-make-s
 harper-imagers/
SUMMARY:Terry VanderHeiden “Composition” This will be Zoom.  Club will 
 be open.
DESCRIPTION:\nTerry VanderHeiden\nBio:\nTerry VanderHeiden is a profession
 al photographer with over 40 years of industry experience and the owner of
  Image Light Photography\, which he founded in 1986. His commercial work 
 focuses on advertising photography\, delivering polished\, professional im
 agery for businesses and brands.\n\nAlongside his commercial career\, Terr
 y has built a strong educational presence over the past 15 years through h
 is YouTube channel (@tv510) \, where he creates in-depth tutorials on natu
 re photography\, Lightroom Classic\, Photoshop\, and digital workflow best
  practices. Known for his straightforward teaching style and real-world ap
 proach\, Terry helps photographers understand not just how to use their 
 tools\, but why certain techniques matter—especially when it comes to 
 image quality\, efficiency\, and printing.\nLearn more at https://imagelig
 ht.com/\nAlso producer of The Nature Photography Podcast\n&nbsp\;\n\n\n\n&
 nbsp\;
END:VEVENT
BEGIN:VTIMEZONE
TZID:America/New_York
X-LIC-LOCATION:America/New_York
BEGIN:DAYLIGHT
DTSTART:20260308T030000
TZOFFSETFROM:-0500
TZOFFSETTO:-0400
TZNAME:EDT
END:DAYLIGHT
END:VTIMEZONE
END:VCALENDAR