BEGIN:VCALENDAR
VERSION:2.0
PRODID:-//wp-events-plugin.com//7.2.3.1//EN
TZID:America/New_York
X-WR-TIMEZONE:America/New_York
BEGIN:VEVENT
UID:656@clevelandphoto.org
DTSTART;TZID=America/New_York:20251010T193000
DTEND;TZID=America/New_York:20251010T220000
DTSTAMP:20251010T160800Z
URL:https://www.clevelandphoto.org/events/tentativie-roger-mastroianni/
SUMMARY:Roger Mastroianni Photographer. In person Presentation - The club w
 ill be open
DESCRIPTION:Roger Mastroianni Photographer\nCleveland Base Editorial Photog
 rapher\nhttps://www.rogermastroianni.com\nRoger Mastroianni Gallery Bio Bo
 ard\n\nhttps://www.dropbox.com/scl/fi/5zy0qzx558fn4vrakdk01/Plain_Dealer_0
 41325-copy.pdf?rlkey=hoauqfmd46eq9v1ng7ehgbj3x&amp\;st=jtlj6j2x&amp\;dl=0\
 n\n\n\n\n\n\n\n\n\n\n\n\n\n\n\n\n\n\nCleveland Ohio Portrait Editorial and
  Commercial Photographer | ABOUT | 1\nrogermastroianni.com\n\n\n\n\n\n\n\n
 \n\n\n\n\n\n\n\n&nbsp\;\nCleveland Based Corporate and Editorial Photograp
 her\nWith decades of experience\, I am a seasoned freelance photographer r
 enowned for my diverse creative skill set and unwavering passion for the a
 rts\, people\, and the industrial landscape. Specializing in environmental
  portraits and documentary photo libraries\, my extensive training and fie
 ld experience enable me to consistently capture authentic moments regardle
 ss of location or conditions. My reputation as one of the nation's premier
  performing arts photographers stems from my tenure as the house and tour 
 photographer for the world-renowned Cleveland Orchestra. Trusted to work i
 ndependently in various environments\, from symphony halls to construction
  zones to Fortune 500 companies\, I seamlessly navigate diverse settings w
 ith exceptional interpersonal skills and a fearless approach to capturing 
 the perfect shot. Equipped with the latest and highest-quality equipment t
 ailored to each environment\, I strive to deliver stunning imagery ranging
  from architectural marvels to industrial landscapes\, suitable for boardr
 ooms\, permanent collections\, or entire wall murals.\n\nMy portfolio enco
 mpasses engagements with magazines\, agencies\, universities\, healthcare 
 facilities\, architects\, and the performing arts sector\, illustrating my
  versatility and adaptability in fulfilling institutional image content ne
 eds. I am actively engaged in long-term projects and boast a roster of lon
 g-standing clients - a testament to my staying power and ability to provid
 e creative solutions for generations to come.\n\nDuring my career\, I have
  been a regular contributor to a long list of Midwest and national publica
 tions including Business Week\, Forbes\, Fortune\, Newsweek\, The New York
  Times\, Reader’s Digest\, and The Wall Street Journal. In addition to e
 ditorial portraiture\, brand shoots\, architecture\, and industrial photog
 raphy\, I also collaborate with The Cleveland Clinic and University Hospit
 als of Cleveland. At night\, I’m the house photographer for Great Lakes 
 Theater\, Cleveland Play House\, and the internationally renowned Clevelan
 d Orchestra. Beyond these commercial endeavors\, my artistic journey refle
 cts an understanding of industrial aesthetics and a commitment to visual s
 torytelling. Whether photographing portraits\, architecture\, or industria
 l processes\, my work embodies a captivating blend of humanity and the ind
 ustrial landscape\, inviting viewers to embark on a visual journey through
  my lens.
END:VEVENT
BEGIN:VTIMEZONE
TZID:America/New_York
X-LIC-LOCATION:America/New_York
BEGIN:DAYLIGHT
DTSTART:20250309T030000
TZOFFSETFROM:-0500
TZOFFSETTO:-0400
TZNAME:EDT
END:DAYLIGHT
END:VTIMEZONE
END:VCALENDAR