BEGIN:VCALENDAR
VERSION:2.0
PRODID:-//wp-events-plugin.com//7.2.3.1//EN
TZID:America/New_York
X-WR-TIMEZONE:America/New_York
BEGIN:VEVENT
UID:310@clevelandphoto.org
DTSTART;TZID=America/New_York:20240426T193000
DTEND;TZID=America/New_York:20240426T210000
DTSTAMP:20240214T011229Z
URL:https://www.clevelandphoto.org/events/ted-stvens/
SUMMARY:The Unique Experience of a Medical/Corporate Photographer - in pers
 on clubhouse event!
DESCRIPTION:The Unique Experience of a Medical/Corporate Photographer\n\n\n
 \nThis presentation  explores the experience of being a medical/corporate
  photographer\nfor 30 years at Akron Children’s Hospital. Everything fro
 m joyous to\nharrowing moments with staff  and patient families will be d
 iscussed.\nAlthough technology has changed in the past 30 years\, the appr
 oach to\ndealing with people remains the same.\nTopics covered will includ
 e: Operative Photography\, Bereavement\nPhotography\, Public Relations and
  Social Media Photography\, General\nMedical Photography\, Fundraising and
  Volunteerism\nTed Stevens has been the Akron Children's Hospital photogra
 pher for many years.  His work spans settings in the operating room\, the
  hospital room with the families of critically ill children to volunteerin
 g in Haiti. You will not want to miss this in-person presentation of one 
 of our local unsung heroes. …\n\n\n\n&nbsp\;\n\n
END:VEVENT
BEGIN:VTIMEZONE
TZID:America/New_York
X-LIC-LOCATION:America/New_York
BEGIN:DAYLIGHT
DTSTART:20240310T030000
TZOFFSETFROM:-0500
TZOFFSETTO:-0400
TZNAME:EDT
END:DAYLIGHT
END:VTIMEZONE
END:VCALENDAR