BEGIN:VCALENDAR
VERSION:2.0
PRODID:-//wp-events-plugin.com//7.2.3.1//EN
TZID:America/New_York
X-WR-TIMEZONE:America/New_York
BEGIN:VEVENT
UID:602@clevelandphoto.org
DTSTART;TZID=America/New_York:20250808T193000
DTEND;TZID=America/New_York:20250808T210000
DTSTAMP:20250721T001905Z
URL:https://www.clevelandphoto.org/events/tba/
SUMMARY:Capturing Cleveland with Gabe Wasylko In-person Club will be open
DESCRIPTION:\n\nBio: Gabe Wasylko is an accomplished photographer and creat
 ive visionary based in Northeast Ohio. With a talent for capturing compell
 ing imagery\, he blends technical precision with artistic intuition to bri
 ng stories to life through his lens. Gabe's work spans urban landscapes\, 
 nature\, and the beauty of everyday life\, often showcasing unique perspec
 tives that inspire a sense of wonder and connection. Beyond his photograph
 y\, Gabe is dedicated to building community through his passion for storyt
 elling\, frequently leading photowalks and collaborating with fellow creat
 ors to share the art of seeing the world differently. Whether behind the c
 amera or in conversation\, Gabe's mission is to inspire others to find bea
 uty in the ordinary and explore their creative potential.\n\nTalk Descript
 ion: Discover the vibrant essence of Cleveland\, Ohio\, through the perspe
 ctive of photographer Gabe Wasylko! In this class\, we’ll showcase a col
 lection of Gabe's photographs that highlight the city’s rich history\, i
 conic landmarks\, and hidden gems. From the gleaming skyline and the shore
 s of Lake Erie to the lively streets of downtown and the cultural treasure
 s of University Circle\, Cleveland offers endless inspiration for photogra
 phers.\n\nWebsite: www.gabewasylko.com\n\nTitle: Capturing Cleveland with 
 Gabe Wasylko\n\nGabe Wasylko\ngabewasylko@icloud.com\n(330) 304 - 5785\nWe
 bsite | LinkedIn | Twitter
END:VEVENT
BEGIN:VTIMEZONE
TZID:America/New_York
X-LIC-LOCATION:America/New_York
BEGIN:DAYLIGHT
DTSTART:20250309T030000
TZOFFSETFROM:-0500
TZOFFSETTO:-0400
TZNAME:EDT
END:DAYLIGHT
END:VTIMEZONE
END:VCALENDAR