BEGIN:VCALENDAR
VERSION:2.0
PRODID:-//wp-events-plugin.com//7.2.3.1//EN
TZID:America/New_York
X-WR-TIMEZONE:America/New_York
BEGIN:VEVENT
UID:276@clevelandphoto.org
DTSTART;TZID=America/New_York:20231201T193000
DTEND;TZID=America/New_York:20231201T210000
DTSTAMP:20231111T200835Z
URL:https://www.clevelandphoto.org/events/table-top-workshop-in-person-at-
 the-clubhouse/
SUMMARY:Table Top Workshop In Person at the Clubhouse
DESCRIPTION:Join our own Deb Zimmerman for a hands-on session to take away 
 the winter blues. This photography session is designed to stretch your ima
 gination (and give you something to shoot in the cold winter days). We wil
 l be combining both still life and macro photography.  As an added bonus 
 we will have several pieces of textured or stained glass to shoot through\
 , on or as backdrops. The creative possibilities are endless. While Macro 
 photography is defined as photography producing photographs of small items
  larger than life size. Still life is defined as a collection of inanimate
  objects (either natural or man-made) arranged together in a specific way.
  In still life photography\, a photographer creates an image with almost f
 ull control over lighting\, composition\, and mood. Because photographers 
 directly influence the image creation process\, still life photos reflect 
 the creativity and style of the photographers themselves. The magic of sti
 ll life images is that they can show us a new way of looking at the ordina
 ry objects around us. Once they are placed into a specific arrangement and
  then captured\, the objects take on a whole news meaning. They are imbued
  with life beyond the ordinary. Bring your camera\, your tripod\, favorite
  still life or macro items to share and\n\nyour.imaginations! This event i
 s open to all at no charge\n\n
END:VEVENT
BEGIN:VTIMEZONE
TZID:America/New_York
X-LIC-LOCATION:America/New_York
BEGIN:STANDARD
DTSTART:20231105T010000
TZOFFSETFROM:-0400
TZOFFSETTO:-0500
TZNAME:EST
END:STANDARD
END:VTIMEZONE
END:VCALENDAR