BEGIN:VCALENDAR
VERSION:2.0
PRODID:-//wp-events-plugin.com//7.2.3.1//EN
TZID:America/New_York
X-WR-TIMEZONE:America/New_York
BEGIN:VEVENT
UID:460@clevelandphoto.org
DTSTART;TZID=America/New_York:20250307T193000
DTEND;TZID=America/New_York:20250307T210000
DTSTAMP:20250207T222301Z
URL:https://www.clevelandphoto.org/events/table-top-photography-in-person-
 event/
SUMMARY:TABLE TOP PHOTOGRAPHY IN-PERSON EVENT.  DEB ZIMMERMAN
DESCRIPTION:\n\nJoin our own Deb Zimmerman for a hands-on session to take a
 way the winter blues. This photography session is designed to stretch your
  imagination (and give you something to shoot in the cold winter days). We
  will be combining both still life and macro photography. As an added bonu
 s we will have several pieces of textured or stained glass to shoot throug
 h\, on or as backdrops. The creative possibilities are endless. While Macr
 o photography is defined as photography producing photographs of small ite
 ms larger than life size. Still life is defined as a collection of inanima
 te objects (either natural or man-made) arranged together in a specific wa
 y. In still life photography\, a photographer creates an image with almost
  full control over lighting\, composition\, and mood. Because photographer
 s directly influence the image creation process\, still life photos reflec
 t the creativity and style of the photographers themselves. The magic of s
 till life images is that they can show us a new way of looking at the ordi
 nary objects around us. Once they are placed into a specific arrangement a
 nd then captured\, the objects take on a whole news meaning. They are imbu
 ed with life beyond the ordinary.\nBring your camera\, your tripod\, favor
 ite still life or macro items to share and your.imaginations! \nThis event
  is open to all at no charge
END:VEVENT
BEGIN:VTIMEZONE
TZID:America/New_York
X-LIC-LOCATION:America/New_York
BEGIN:STANDARD
DTSTART:20241103T010000
TZOFFSETFROM:-0400
TZOFFSETTO:-0500
TZNAME:EST
END:STANDARD
END:VTIMEZONE
END:VCALENDAR