BEGIN:VCALENDAR
VERSION:2.0
PRODID:-//wp-events-plugin.com//7.2.3.1//EN
TZID:America/New_York
X-WR-TIMEZONE:America/New_York
BEGIN:VEVENT
UID:783@clevelandphoto.org
DTSTART;TZID=America/New_York:20251108T100000
DTEND;TZID=America/New_York:20251108T160000
DTSTAMP:20251003T004747Z
URL:https://www.clevelandphoto.org/events/swap-meet-in-the-police-training
 -room-details-to-follow/
SUMMARY:Photo Equipment Swap Meet at CPS
DESCRIPTION:Here's what you need to know\n\n 	Only CPS members will be allo
 wed to have a table to sell their equipment\n 	There is no charge to have 
 a table\n 	Tables can be reserved as a half table (30" x 4') or a full tab
 le (30"x 8')\n 	Only photographic equipment\, please\n 	All transactions a
 re strictly between buyer and seller\n 	Setup time is 9:00 AM on November 
 8th\n 	CPS assumes no liability due to bodily injury\, property damage\, o
 r other losses\n 	Tables can be reserved here\n
END:VEVENT
BEGIN:VTIMEZONE
TZID:America/New_York
X-LIC-LOCATION:America/New_York
BEGIN:STANDARD
DTSTART:20251102T010000
TZOFFSETFROM:-0400
TZOFFSETTO:-0500
TZNAME:EST
END:STANDARD
END:VTIMEZONE
END:VCALENDAR