BEGIN:VCALENDAR
VERSION:2.0
PRODID:-//wp-events-plugin.com//7.2.3.1//EN
TZID:America/New_York
X-WR-TIMEZONE:America/New_York
BEGIN:VEVENT
UID:390@clevelandphoto.org
DTSTART;TZID=America/New_York:20250117T193000
DTEND;TZID=America/New_York:20250117T210000
DTSTAMP:20240617T035343Z
URL:https://www.clevelandphoto.org/events/susan-milinkovich/
SUMMARY:Using Compositional Tools to Create Intimate Landscapes - Susan Mil
 inkovich - In person presentation - Club will be open
DESCRIPTION:\n\nSusan Milinkovich began photographing with her father when 
 she received her first Brownie camera in elementary school. Her dad gave h
 er the gift of “seeing” a photograph and both parents gave her a love 
 of nature and an appreciation for the beauty to be found in our everyday w
 orld. Susan has attended workshops with nature photographers John Shaw\, C
 harlie Waite\, Charlie Cramer\, John Barclay\, Tillman Crane\, Kathleen Cl
 emmons\, Bill Lea\, and Will Clay. While Susan enjoys capturing the larger
  landscapes\, it is the intimate details of a landscape\, structure or flo
 wer that draws her attention and tells a story. Susan has participated in 
 exhibits at galleries around the Cincinnati area and has been a part of Ci
 ncinnati’s PhotoFocus. Susan leads photowalks\, teaches classes and work
 shops\, is president of one of the camera clubs she attends\, and is an on
 going instructor at the photo workshops at the Great Smoky Mountain Instit
 ute at Tremont. You can see Susan’s photography at www.susanmilinkovich.
 com\n\nUsing Compositional Tools to Create Intimate Landscapes\n\nThe term
  “intimate landscape” can be attributed to American photographer Eliot
  Porter. An intimate landscape puts a frame around a small part of the wor
 ld around us and draws our attention to something we might not otherwise n
 otice. It’s about the smaller details vs. the big scenic landscape. It m
 ight focus on shapes\, lines\, colors\, textures or patterns. It can tell 
 a part of the story. It can be crafted to convey a particular mood\, emoti
 on or observation with a degree of intimacy\, understanding or closeness.\
 nOne reason for pursuing the intimate landscape is that you’ll create im
 ages that are uniquely your own. It allows your vision to shine through in
  ways that photographing grand scenic landscapes cannot. Intimate landscap
 es can include nature scenes\, abstract photographs\, portraits of flowers
 \, plants or trees\, or small scenes from buildings and other structures. 
 Join us as we learn to explore\, observe\, distill and craft intimate phot
 ographs. An entire\n\nwww.susanmilinkovich.com\n\n\n\n\n\n"There are two w
 ays to live your life.  One\, as though nothing is a miracle.  The other
 \; as though everything is."  Albert Einstein\n\n\n\n\n\n
END:VEVENT
BEGIN:VTIMEZONE
TZID:America/New_York
X-LIC-LOCATION:America/New_York
BEGIN:STANDARD
DTSTART:20241103T010000
TZOFFSETFROM:-0400
TZOFFSETTO:-0500
TZNAME:EST
END:STANDARD
END:VTIMEZONE
END:VCALENDAR