BEGIN:VCALENDAR
VERSION:2.0
PRODID:-//wp-events-plugin.com//7.2.3.1//EN
TZID:America/New_York
X-WR-TIMEZONE:America/New_York
BEGIN:VEVENT
UID:354@clevelandphoto.org
DTSTART;TZID=America/New_York:20241004T193000
DTEND;TZID=America/New_York:20241004T210000
DTSTAMP:20241005T175351Z
URL:https://www.clevelandphoto.org/events/speaker-to-be-announce/
SUMMARY:The Art and Beauty of Intentional Camera Movement (ICM) Photography
   Stephanie Johnson-Zoom Presentation Clubhouse will be open
DESCRIPTION:&nbsp\;\n\n\nThe Art and Beauty of Intentional Camera Movement 
 (ICM) Photography\nDescription of Presentation\nIn her presentation “The
  Art and Beauty of Intentional Camera Movement (ICM) Photography” Stepha
 nie shares her passion for ICM and talks about her journey from traditiona
 l landscape photographer to focusing primarily on ICM photography. Stephan
 ie has a deep love and joy for the individually expressive nature of ICM a
 nd encourages photographers to ‘see things differently’ through the le
 ns of their cameras\, as well as through the lens of their inner creative 
 selves.\n\nThe art and beauty of ICM photography is that\, by seeing thing
 s differently\, we can connect with the ordinary\, and even the mundane\, 
 to transform how we interact with our surroundings...to explore\, experime
 nt\, and play with the camera in exciting new ways\, resulting in images t
 hat are unique to each individual photographer.\n\nIn this talk\, Stephani
 e covers some of the basic ICM principles and techniques\, along with samp
 le images to show the effects of various camera movements and the camera s
 ettings for each. Additionally\, several examples showing scenes before an
 d after using ICM will be shared\, as well as a short field work video to 
 show some of the camera movements Stephanie uses in different location set
 tings.\n\nStephanie also touches on more advanced ICM techniques in this p
 resentation\, such as multiple exposure ICMs\, as well. She also presents 
 a section on mobile ICMs for the growing trend towards creating with mobil
 e devices.\nStephanie Johnson Bio\nStephanie is a self-taught photographic
  artist\, with a focus on Intentional Camera Movement (ICM)\, Multiple Exp
 osure (ME)\, and creative photography techniques as a form of artistic exp
 ression. She has a deep passion for creating uniquely distinctive images b
 y working with camera movement and multiple exposure to reveal the essence
  of moments spent in any given scene\, and as a creative photographer she 
 is always seeking to push the boundaries of her own artistry. In this way\
 , she also explores the use of her in-camera ICM and ME images as a basis 
 for creating unique works of art in a post-production workflow\, as well. 
 Stephanie brings an intuitive and instinctual approach to her photography-
 as-art to visually express light\, color\, form\, line\, texture\, mood\, 
 and emotion through these creative photography techniques.\n\nStephanie is
  the Founder\, Creator\, and Publisher of ICM Photography Magazine (ICMPho
 toMag)\, a first-of-its-kind e-magazine dedicated solely to featuring ICM 
 photography. Stephanie also leads on-location ICM and creative photography
  workshops in the US and the UK in collaboration with various creative pho
 tographers\, and as an instructor for Santa Fe Workshops she leads ICM and
  creative photography workshops online and on-location for SFW\, as well. 
 She collaborates with various other online learning communities and camera
  clubs to share her passion\, techniques\, and knowledge of these creative
  photography techniques.\n\nStephanie’s personal website can be found at
  www.stephjohnphoto.com\nI'm looking forward to seeing you all this evenin
 g!  As part of my presentations\, I always like to provide a copy of my s
 lides as a PDF for camera club members to download if they'd like to keep 
 a copy for future reference.  I've uploaded the PDF to this Google Drive 
 folder\, which you can feel free to share with your members after the meet
 ing this evening - https://drive.google.com/drive/folders/1KQF4IHWoIrdOuQ
 gmyhGjguVDR5Bx5bsN \nSocial Media –\nwww.facebook.com/stephjohnphoto\nw
 ww.instagram.com/stephjohnphoto
END:VEVENT
BEGIN:VTIMEZONE
TZID:America/New_York
X-LIC-LOCATION:America/New_York
BEGIN:DAYLIGHT
DTSTART:20240310T030000
TZOFFSETFROM:-0500
TZOFFSETTO:-0400
TZNAME:EDT
END:DAYLIGHT
END:VTIMEZONE
END:VCALENDAR