BEGIN:VCALENDAR
VERSION:2.0
PRODID:-//wp-events-plugin.com//7.2.3.1//EN
TZID:America/New_York
X-WR-TIMEZONE:America/New_York
BEGIN:VEVENT
UID:730@clevelandphoto.org
DTSTART;TZID=America/New_York:20250807T193000
DTEND;TZID=America/New_York:20250807T220000
DTSTAMP:20250709T204747Z
URL:https://www.clevelandphoto.org/events/sig-meeting-topic-tbd/
SUMMARY:SIG Meeting- Care and Feeding of Your Expensive Digital Camera
DESCRIPTION:Dave Busch’s presentation will cover everything you need to k
 now about Protection\, Prevention\, Troubleshooting\, and Upgrading your c
 amera\, including ways to prevent damage\, fix common problems\, and when 
 you should – or should not update your camera’s firmware. How can you 
 add new features and avoid unplanned obsolescence?  You’ll learn how to
  fine-tune focus\, correct chronic exposure problems\,  and ways to set u
 p your camera so it will work the way you want to.  As usual\, everyone w
 ill get a chance to share their own tips and experiences related to the ni
 ght’s main topic – or any other questions related to taking better pho
 tographs.\n
END:VEVENT
BEGIN:VTIMEZONE
TZID:America/New_York
X-LIC-LOCATION:America/New_York
BEGIN:DAYLIGHT
DTSTART:20250309T030000
TZOFFSETFROM:-0500
TZOFFSETTO:-0400
TZNAME:EDT
END:DAYLIGHT
END:VTIMEZONE
END:VCALENDAR