BEGIN:VCALENDAR
VERSION:2.0
PRODID:-//wp-events-plugin.com//7.2.3.1//EN
TZID:America/New_York
X-WR-TIMEZONE:America/New_York
BEGIN:VEVENT
UID:731@clevelandphoto.org
DTSTART;TZID=America/New_York:20251204T193000
DTEND;TZID=America/New_York:20251204T220000
DTSTAMP:20251123T232806Z
URL:https://www.clevelandphoto.org/events/sig-meeting-topic-tbd-2/
SUMMARY:SIG Meeting- David Busch Roasts Himself
DESCRIPTION:With no other suggested topics from the regular attendees\, Dav
 id folded under extreme pressure to expound upon his incredibly diversifie
 d journey through life.  His description of this meeting\, too long to in
 clude here\, reveals that this meeting is going to be filled with humor\, 
 surprises\, amazement\, etc\, etc. as David roasts himself in his usual se
 lf-deprecating fashion.  You don’t want to miss this one!\n\n
END:VEVENT
BEGIN:VTIMEZONE
TZID:America/New_York
X-LIC-LOCATION:America/New_York
BEGIN:STANDARD
DTSTART:20251102T010000
TZOFFSETFROM:-0400
TZOFFSETTO:-0500
TZNAME:EST
END:STANDARD
END:VTIMEZONE
END:VCALENDAR