BEGIN:VCALENDAR
VERSION:2.0
PRODID:-//wp-events-plugin.com//7.2.3.1//EN
TZID:America/New_York
X-WR-TIMEZONE:America/New_York
BEGIN:VEVENT
UID:784@clevelandphoto.org
DTSTART;TZID=America/New_York:20250904T193000
DTEND;TZID=America/New_York:20250904T220000
DTSTAMP:20250821T000051Z
URL:https://www.clevelandphoto.org/events/sig-meeting-the-power-of-glass-f
 ocus-on-lenses-for-creative-photography/
SUMMARY:SIG Meeting: “The Power of Glass:  Focus on Lenses for Creative P
 hotography”
DESCRIPTION:The Power of Glass: Focus on Lenses for Creative Photography wi
 ll be the topic of the next CPS Special Interest Groups meeting at 7:30 on
  September 4 at the clubhouse.  Dave Busch’s presentation will have thr
 ee parts\, covering optics/lens technology\, how to select the most versat
 ile lenses for your kit\, and exploring creative ways to use them in your 
 work.   Dave is bringing along a selection of unusual lenses for you to 
 look at\, and\, as usual\, there will be lively discussions of any other t
 opics not related to the presentation that you want to explore.\n\n&nbsp\;
END:VEVENT
BEGIN:VTIMEZONE
TZID:America/New_York
X-LIC-LOCATION:America/New_York
BEGIN:DAYLIGHT
DTSTART:20250309T030000
TZOFFSETFROM:-0500
TZOFFSETTO:-0400
TZNAME:EDT
END:DAYLIGHT
END:VTIMEZONE
END:VCALENDAR