BEGIN:VCALENDAR
VERSION:2.0
PRODID:-//wp-events-plugin.com//7.2.3.1//EN
TZID:America/New_York
X-WR-TIMEZONE:America/New_York
BEGIN:VEVENT
UID:818@clevelandphoto.org
DTSTART;TZID=America/New_York:20251106T193000
DTEND;TZID=America/New_York:20251106T220000
DTSTAMP:20251026T033404Z
URL:https://www.clevelandphoto.org/events/sig-meeting-customizing-your-dig
 ital-camera/
SUMMARY:SIG Meeting - Customizing Your Digital Camera By Dave Busch
DESCRIPTION:Now is your chance to learn how to get your camera to operate t
 he way you want it to\, rather than how Nikon\, Canon\, Sony\, and other v
 endors think you should. At our November 6th SIG meeting\, we'll be discus
 sing all the ways you can customize your camera\, both physically with use
 ful add-ons and accessories\, as well as operationally through the many av
 ailable Setup options.   Want to flip between AF or exposure setups at t
 he press of a button\, or invoke a particular function with that mysteriou
 s Control Ring that Canon and Nikon have added to their latest lenses?  A
 s always\, you'll have the opportunity to share your own personal tips and
  tricks and ask questions about other topics once the presentation is fini
 shed.  You should also come with suggestions for topics for December and 
 subsequent months.\n\n\n\n&nbsp\;
END:VEVENT
BEGIN:VTIMEZONE
TZID:America/New_York
X-LIC-LOCATION:America/New_York
BEGIN:STANDARD
DTSTART:20251102T010000
TZOFFSETFROM:-0400
TZOFFSETTO:-0500
TZNAME:EST
END:STANDARD
END:VTIMEZONE
END:VCALENDAR