BEGIN:VCALENDAR
VERSION:2.0
PRODID:-//wp-events-plugin.com//7.2.3.1//EN
TZID:America/New_York
X-WR-TIMEZONE:America/New_York
BEGIN:VEVENT
UID:76@clevelandphoto.org
DTSTART;TZID=America/New_York:20230504T193000
DTEND;TZID=America/New_York:20230504T193000
DTSTAMP:20230405T155754Z
URL:https://www.clevelandphoto.org/events/sig-group-meeting-travel-photogr
 aphy/
SUMMARY:SIG Group Meeting - Travel Photography
DESCRIPTION:Dave will discuss how to approach travel photography. What type
 s of gear to bring and how to shoot under various conditions will be discu
 ssed.  After the discussion we will break into groups based on camera mod
 els to discuss camera specific issues.
END:VEVENT
BEGIN:VTIMEZONE
TZID:America/New_York
X-LIC-LOCATION:America/New_York
BEGIN:DAYLIGHT
DTSTART:20230312T030000
TZOFFSETFROM:-0500
TZOFFSETTO:-0400
TZNAME:EDT
END:DAYLIGHT
END:VTIMEZONE
END:VCALENDAR