BEGIN:VCALENDAR
VERSION:2.0
PRODID:-//wp-events-plugin.com//7.2.3.1//EN
TZID:America/New_York
X-WR-TIMEZONE:America/New_York
BEGIN:VEVENT
UID:272@clevelandphoto.org
DTSTART;TZID=America/New_York:20231102T193000
DTEND;TZID=America/New_York:20231102T220000
DTSTAMP:20231016T160800Z
URL:https://www.clevelandphoto.org/events/sig-group-meeting-topic-to-be-de
 termined/
SUMMARY:SIG Group Meeting - HDR Photography and Camera Equipment Sale
DESCRIPTION:High Dynamic Range photography using both your camera’s built
 -in HDR features and advanced manual techniques will be the topic for CPS
 ’ Special Interest Groups (SIG) meeting on Thursday\, November 2.  Afte
 r the presentation\, we’ll break up into groups to share tips for workin
 g with Sony\, Canon\, Nikon\, and other cameras.  The meeting will begin 
 promptly at 7:30\, but Dave Busch will be on hand at 6:00 p.m. with a coll
 ection of equipment he has for sale.  Included are like-new Canon EOS R10
 \, EOS R7\, ROS R8\, and EOS T6 cameras\, the latest Sony a7 IV and a1 mod
 els\, and a Nikon Z8.  A few lenses will also be available.\n\n&nbsp\;\n\
 n&nbsp\;
END:VEVENT
BEGIN:VTIMEZONE
TZID:America/New_York
X-LIC-LOCATION:America/New_York
BEGIN:DAYLIGHT
DTSTART:20230312T030000
TZOFFSETFROM:-0500
TZOFFSETTO:-0400
TZNAME:EDT
END:DAYLIGHT
END:VTIMEZONE
END:VCALENDAR