BEGIN:VCALENDAR
VERSION:2.0
PRODID:-//wp-events-plugin.com//7.2.3.1//EN
TZID:America/New_York
X-WR-TIMEZONE:America/New_York
BEGIN:VEVENT
UID:622@clevelandphoto.org
DTSTART;TZID=America/New_York:20250403T193000
DTEND;TZID=America/New_York:20250403T223000
DTSTAMP:20250322T165750Z
URL:https://www.clevelandphoto.org/events/sig-group-meeting-topic-to-be-de
 termined-2/
SUMMARY:SIG Group Meeting - Photography in the Future (and Today)
DESCRIPTION:You won’t want to miss a very special presentation detailing 
 the upcoming photographic technology that will radically change how everyo
 ne takes photographs in the very near future. The CPS Special Interest Gro
 up meeting at 7:30 p.m. on Thursday\, April 3 will premiere Dave Busch’s
  new presentation\, “Photography in the Future (and Today).”  While e
 veryone predicts higher resolution sensors\, improved dynamic ranges\, and
  sophisticated tools for autofocus subject detection\, true innovations 
 – many of which are already being implemented – are much more surprisi
 ng.  Time-of-flight sensing makes it easy to adjust an image’s plane-of
 -focus\, bokeh\, and depth-of-field\, even after the image is taken.  Qua
 d-Bayer digitizers and pixel-shift technology can quadruple the amount of 
 information in your photos. Expect exciting breakthroughs in lens design\,
  real-time in-camera computational processing\, and amazing pre-buffering 
 techniques (which let you capture action that happened before you actually
  pressed the shutter button).\nThe Cleveland Photographic Society is getti
 ng an exclusive first look at this presentation\, so we hope to see you th
 ere\, and for the regular camera-specific problem-solving discussions that
  follow.\n\n\n&nbsp\;
END:VEVENT
BEGIN:VTIMEZONE
TZID:America/New_York
X-LIC-LOCATION:America/New_York
BEGIN:DAYLIGHT
DTSTART:20250309T030000
TZOFFSETFROM:-0500
TZOFFSETTO:-0400
TZNAME:EDT
END:DAYLIGHT
END:VTIMEZONE
END:VCALENDAR