BEGIN:VCALENDAR
VERSION:2.0
PRODID:-//wp-events-plugin.com//7.2.3.1//EN
TZID:America/New_York
X-WR-TIMEZONE:America/New_York
BEGIN:VEVENT
UID:327@clevelandphoto.org
DTSTART;TZID=America/New_York:20240307T193000
DTEND;TZID=America/New_York:20240307T220000
DTSTAMP:20240208T173137Z
URL:https://www.clevelandphoto.org/events/sig-group-meeting-topic-to-be-an
 nounced/
SUMMARY:SIG Group Meeting - Continuous Shooting
DESCRIPTION:Today’s cameras aren’t limited to continuous shooting at a 
 mere 3-5 frames per second as they were a decade ago.  Many current camer
 as can easily capture photos at 20-30 frames per second – or up to 120 f
 ps in cropped mode.  The CPS SIG meeting in March will explore all the ne
 w things you can do with these expanded continuous shooting capabilities a
 nd show you tricks for getting the best results at these frame rates.  Ac
 tion photography\, multiple exposures\, time-lapse\, motion analysis\, dyn
 amic range optimization\, and much more will be covered.  You’ll learn 
 the advantages and disadvantages of mechanical and electronic shutters\, t
 he “Jell-O” effect\, and what we can expect in the future. After the p
 resentation\, we’ll break up into groups to share tips for working with 
 Sony\, Canon\, Nikon\, and other cameras.\n\n&nbsp\;\n\n&nbsp\;
END:VEVENT
BEGIN:VTIMEZONE
TZID:America/New_York
X-LIC-LOCATION:America/New_York
BEGIN:STANDARD
DTSTART:20231105T010000
TZOFFSETFROM:-0400
TZOFFSETTO:-0500
TZNAME:EST
END:STANDARD
END:VTIMEZONE
END:VCALENDAR