BEGIN:VCALENDAR
VERSION:2.0
PRODID:-//wp-events-plugin.com//7.2.3.1//EN
TZID:America/New_York
X-WR-TIMEZONE:America/New_York
BEGIN:VEVENT
UID:344@clevelandphoto.org
DTSTART;TZID=America/New_York:20240502T193000
DTEND;TZID=America/New_York:20240502T220000
DTSTAMP:20240405T120707Z
URL:https://www.clevelandphoto.org/events/sig-group-meeting-studio-and-art
 ificial-lighting/
SUMMARY:SIG Group Meeting - Studio and Artificial Lighting
DESCRIPTION:This SIG Meeting will deal with studio and artificial lighting.
  He will go over how to set up various lighting situations as well as came
 ra settings. It should be a very interesting evening and as always\, after
  the meeting we will break into camera specific groups to discuss individu
 al camera problems and tips. After the presentation\, we’ll break up int
 o groups to share tips for working with Sony\, Canon\, Nikon\, and other c
 ameras.\n\n&nbsp\;\n\n&nbsp\;
END:VEVENT
BEGIN:VTIMEZONE
TZID:America/New_York
X-LIC-LOCATION:America/New_York
BEGIN:DAYLIGHT
DTSTART:20240310T030000
TZOFFSETFROM:-0500
TZOFFSETTO:-0400
TZNAME:EDT
END:DAYLIGHT
END:VTIMEZONE
END:VCALENDAR