BEGIN:VCALENDAR
VERSION:2.0
PRODID:-//wp-events-plugin.com//7.2.3.1//EN
TZID:America/New_York
X-WR-TIMEZONE:America/New_York
BEGIN:VEVENT
UID:543@clevelandphoto.org
DTSTART;TZID=America/New_York:20250102T193000
DTEND;TZID=America/New_York:20250102T223000
DTSTAMP:20250101T005949Z
URL:https://www.clevelandphoto.org/events/sig-group-meeting-street-photogr
 aphy/
SUMMARY:CANCELLED -  Will be rescheduled for  February - SIG Group Meeting 
 - Street Photography
DESCRIPTION:CANCELLED  Street Photography will be rescheduled for February
 \n\n&nbsp\;
END:VEVENT
BEGIN:VTIMEZONE
TZID:America/New_York
X-LIC-LOCATION:America/New_York
BEGIN:STANDARD
DTSTART:20241103T010000
TZOFFSETFROM:-0400
TZOFFSETTO:-0500
TZNAME:EST
END:STANDARD
END:VTIMEZONE
END:VCALENDAR