BEGIN:VCALENDAR
VERSION:2.0
PRODID:-//wp-events-plugin.com//7.2.3.1//EN
TZID:America/New_York
X-WR-TIMEZONE:America/New_York
BEGIN:VEVENT
UID:605@clevelandphoto.org
DTSTART;TZID=America/New_York:20250206T193000
DTEND;TZID=America/New_York:20250206T223000
DTSTAMP:20250110T185731Z
URL:https://www.clevelandphoto.org/events/sig-group-meeting-street-photogr
 aphy-2/
SUMMARY:SIG Group Meeting - Street Photography
DESCRIPTION:David Busch will discuss street photography. It should be a ver
 y interesting evening and as always\, after the meeting we will break into
  camera specific groups to discuss individual camera problems and tips.\n\
 n&nbsp\;
END:VEVENT
BEGIN:VTIMEZONE
TZID:America/New_York
X-LIC-LOCATION:America/New_York
BEGIN:STANDARD
DTSTART:20241103T010000
TZOFFSETFROM:-0400
TZOFFSETTO:-0500
TZNAME:EST
END:STANDARD
END:VTIMEZONE
END:VCALENDAR