BEGIN:VCALENDAR
VERSION:2.0
PRODID:-//wp-events-plugin.com//7.2.3.1//EN
TZID:America/New_York
X-WR-TIMEZONE:America/New_York
BEGIN:VEVENT
UID:166@clevelandphoto.org
DTSTART;TZID=America/New_York:20230907T193000
DTEND;TZID=America/New_York:20230907T220000
DTSTAMP:20230805T165828Z
URL:https://www.clevelandphoto.org/events/sig-group-meeting-photographing-
 route-66/
SUMMARY:SIG Group Meeting - Photographing Route 66
DESCRIPTION:Dave will discuss his recent trip down Route 66. There will be 
 many photos as well as tips on what to see and what not to see if you make
  the trip. After the discussion we will break into groups based on camera
  models to discuss camera specific issues.\n\n\n\n&nbsp\;
END:VEVENT
BEGIN:VTIMEZONE
TZID:America/New_York
X-LIC-LOCATION:America/New_York
BEGIN:DAYLIGHT
DTSTART:20230312T030000
TZOFFSETFROM:-0500
TZOFFSETTO:-0400
TZNAME:EDT
END:DAYLIGHT
END:VTIMEZONE
END:VCALENDAR