BEGIN:VCALENDAR
VERSION:2.0
PRODID:-//wp-events-plugin.com//7.2.3.1//EN
TZID:America/New_York
X-WR-TIMEZONE:America/New_York
BEGIN:VEVENT
UID:285@clevelandphoto.org
DTSTART;TZID=America/New_York:20240201T193000
DTEND;TZID=America/New_York:20240201T220000
DTSTAMP:20240105T140031Z
URL:https://www.clevelandphoto.org/events/sig-group-meeting-new-photograph
 ic-gadgets/
SUMMARY:SIG Group Meeting - New Photographic Gadgets
DESCRIPTION:All the new and exciting photographic gadgets available will be
  the topic for CPS’ Special Interest Groups (SIG) meeting on Thursday\, 
 February 1 with Dave Busch.  After the presentation\, we’ll break up in
 to groups to share tips for working with Sony\, Canon\, Nikon\, and other 
 cameras.\n\n&nbsp\;\n\n&nbsp\;
END:VEVENT
BEGIN:VTIMEZONE
TZID:America/New_York
X-LIC-LOCATION:America/New_York
BEGIN:STANDARD
DTSTART:20231105T010000
TZOFFSETFROM:-0400
TZOFFSETTO:-0500
TZNAME:EST
END:STANDARD
END:VTIMEZONE
END:VCALENDAR