BEGIN:VCALENDAR
VERSION:2.0
PRODID:-//wp-events-plugin.com//7.2.3.1//EN
TZID:America/New_York
X-WR-TIMEZONE:America/New_York
BEGIN:VEVENT
UID:376@clevelandphoto.org
DTSTART;TZID=America/New_York:20240801T193000
DTEND;TZID=America/New_York:20240801T220000
DTSTAMP:20240717T014119Z
URL:https://www.clevelandphoto.org/events/sig-group-meeting-managing-light
 -in-photography/
SUMMARY:SIG Group Meeting - Covered Bridges of Ashtabula County
DESCRIPTION:Fall is the best time to photograph the 19 covered bridges in A
 shtabula County.  It’s actually possible to shoot all of them in one lo
 ng\, exhilarating day. At this SIG Meeting Dave Busch will show you how to
  photograph the shortest covered bridge in the world\, as well as the  lo
 ngest. It should be a very interesting evening and as always\, after the m
 eeting we will break into camera specific groups to discuss individual cam
 era problems and tips.\n\n&nbsp\;\n\n&nbsp\;
END:VEVENT
BEGIN:VTIMEZONE
TZID:America/New_York
X-LIC-LOCATION:America/New_York
BEGIN:DAYLIGHT
DTSTART:20240310T030000
TZOFFSETFROM:-0500
TZOFFSETTO:-0400
TZNAME:EDT
END:DAYLIGHT
END:VTIMEZONE
END:VCALENDAR