BEGIN:VCALENDAR
VERSION:2.0
PRODID:-//wp-events-plugin.com//7.2.3.1//EN
TZID:America/New_York
X-WR-TIMEZONE:America/New_York
BEGIN:VEVENT
UID:661@clevelandphoto.org
DTSTART;TZID=America/New_York:20250501T193000
DTEND;TZID=America/New_York:20250501T223000
DTSTAMP:20250424T212503Z
URL:https://www.clevelandphoto.org/events/sig-group-meeting-magic-with-mon
 ochrome/
SUMMARY:SIG Group Meeting - Magic with Monochrome
DESCRIPTION:Magic with Monochrome\n\nCreative uses of monochrome images  -
 - black-and-white\, sepia\, cyanotype\, and beyond – can give your photo
 graphs a new perspective.  David Busch will explore all the ways you can 
 exploit the strengths of monochrome imagery.  We’ll also look at the ot
 her side of the coin: is it possible to convert your old black-and-white p
 hotographs to color?   The evening’s presentation will wind up with op
 en-ended discussions of camera-specific topics for the owners of  Nikon\,
  Sony\, and Canon cameras\, with users of Fujifilm\, Olympus\, Panasonic\,
  Leica\, Pentax\, etc. encouraged to come represent their brands.\n\n&nbsp
 \;
END:VEVENT
BEGIN:VTIMEZONE
TZID:America/New_York
X-LIC-LOCATION:America/New_York
BEGIN:DAYLIGHT
DTSTART:20250309T030000
TZOFFSETFROM:-0500
TZOFFSETTO:-0400
TZNAME:EDT
END:DAYLIGHT
END:VTIMEZONE
END:VCALENDAR