BEGIN:VCALENDAR
VERSION:2.0
PRODID:-//wp-events-plugin.com//7.2.3.1//EN
TZID:America/New_York
X-WR-TIMEZONE:America/New_York
BEGIN:VEVENT
UID:345@clevelandphoto.org
DTSTART;TZID=America/New_York:20240606T193000
DTEND;TZID=America/New_York:20240606T220000
DTSTAMP:20240503T115634Z
URL:https://www.clevelandphoto.org/events/sig-group-meeting-light-painting
 /
SUMMARY:SIG Group Meeting - Light Painting
DESCRIPTION:This SIG Meeting will deal with light painting. Dave will go ov
 er how to set up various shoots as well as camera settings. It should be a
  very interesting evening and as always\, after the meeting we will break 
 into camera specific groups to discuss individual camera problems and tips
 . After the presentation\, we’ll break up into groups to share tips for 
 working with Sony\, Canon\, Nikon\, and other cameras.\n\n&nbsp\;\n\n&nbsp
 \;
END:VEVENT
BEGIN:VTIMEZONE
TZID:America/New_York
X-LIC-LOCATION:America/New_York
BEGIN:DAYLIGHT
DTSTART:20240310T030000
TZOFFSETFROM:-0500
TZOFFSETTO:-0400
TZNAME:EDT
END:DAYLIGHT
END:VTIMEZONE
END:VCALENDAR