BEGIN:VCALENDAR
VERSION:2.0
PRODID:-//wp-events-plugin.com//7.2.3.1//EN
TZID:America/New_York
X-WR-TIMEZONE:America/New_York
BEGIN:VEVENT
UID:259@clevelandphoto.org
DTSTART;TZID=America/New_York:20231005T193000
DTEND;TZID=America/New_York:20231005T220000
DTSTAMP:20230908T121824Z
URL:https://www.clevelandphoto.org/events/sig-group-meeting-lenses-and-fil
 ters-everything-you-wanted-to-know/
SUMMARY:SIG Group Meeting - Lenses and Filters - Everything You Wanted to K
 now
DESCRIPTION:Dave will discuss his all to do with lenses and filters. Sigma 
 vs name brands\, uses of various filters\, etc. After the discussion we wi
 ll break into groups based on camera models to discuss camera specific iss
 ues.\n\n&nbsp\;\n\n&nbsp\;
END:VEVENT
BEGIN:VTIMEZONE
TZID:America/New_York
X-LIC-LOCATION:America/New_York
BEGIN:DAYLIGHT
DTSTART:20230312T030000
TZOFFSETFROM:-0500
TZOFFSETTO:-0400
TZNAME:EDT
END:DAYLIGHT
END:VTIMEZONE
END:VCALENDAR