BEGIN:VCALENDAR
VERSION:2.0
PRODID:-//wp-events-plugin.com//7.2.3.1//EN
TZID:America/New_York
X-WR-TIMEZONE:America/New_York
BEGIN:VEVENT
UID:338@clevelandphoto.org
DTSTART;TZID=America/New_York:20240404T193000
DTEND;TZID=America/New_York:20240404T220000
DTSTAMP:20240312T220501Z
URL:https://www.clevelandphoto.org/events/sig-group-meeting-infrared-photo
 graphy/
SUMMARY:SIG Group Meeting - Infrared Photography
DESCRIPTION:This SIG Meeting will deal with infrared photography. What sett
 ings to use\, various infrared filters\, post processing apps and how to m
 odify a camera to shoot infrared. It should be a very interesting evening 
 and as always\, after the meeting we will break into camera specific group
 s to discuss individual camera problems and tips. After the presentation\,
  we’ll break up into groups to share tips for working with Sony\, Canon\
 , Nikon\, and other cameras.\n\n&nbsp\;\n\n&nbsp\;
END:VEVENT
BEGIN:VTIMEZONE
TZID:America/New_York
X-LIC-LOCATION:America/New_York
BEGIN:DAYLIGHT
DTSTART:20240310T030000
TZOFFSETFROM:-0500
TZOFFSETTO:-0400
TZNAME:EDT
END:DAYLIGHT
END:VTIMEZONE
END:VCALENDAR