BEGIN:VCALENDAR
VERSION:2.0
PRODID:-//wp-events-plugin.com//7.2.3.1//EN
TZID:America/New_York
X-WR-TIMEZONE:America/New_York
BEGIN:VEVENT
UID:404@clevelandphoto.org
DTSTART;TZID=America/New_York:20240829T193000
DTEND;TZID=America/New_York:20240829T220000
DTSTAMP:20240807T173548Z
URL:https://www.clevelandphoto.org/events/sig-group-meeting-how-to-photogr
 aph-an-air-show/
SUMMARY:SIG Group Meeting - How to Photograph an Air Show
DESCRIPTION:The talk will cover photographing air shows in general as well 
 as advice on shooting the Cleveland Air Show from Burke Lakefront Airport 
 as well as from other locations such as Wendy Park.  It should be a very 
 interesting evening and as always\, after the meeting we will break into c
 amera specific groups to discuss individual camera problems and tips.\n\n&
 nbsp\;\n\n&nbsp\;
END:VEVENT
BEGIN:VTIMEZONE
TZID:America/New_York
X-LIC-LOCATION:America/New_York
BEGIN:DAYLIGHT
DTSTART:20240310T030000
TZOFFSETFROM:-0500
TZOFFSETTO:-0400
TZNAME:EDT
END:DAYLIGHT
END:VTIMEZONE
END:VCALENDAR