BEGIN:VCALENDAR
VERSION:2.0
PRODID:-//wp-events-plugin.com//7.2.3.1//EN
TZID:America/New_York
X-WR-TIMEZONE:America/New_York
BEGIN:VEVENT
UID:461@clevelandphoto.org
DTSTART;TZID=America/New_York:20241003T193000
DTEND;TZID=America/New_York:20241003T220000
DTSTAMP:20240926T043703Z
URL:https://www.clevelandphoto.org/events/sig-group-meeting-how-to-photogr
 aph-an-air-show-2/
SUMMARY:SIG Group Meeting - Macro Photography
DESCRIPTION:David Busch will discuss macro photography.  It should be a ve
 ry interesting evening and as always\, after the meeting we will break int
 o camera specific groups to discuss individual camera problems and tips.\n
 \n&nbsp\;\n\n&nbsp\;
END:VEVENT
BEGIN:VTIMEZONE
TZID:America/New_York
X-LIC-LOCATION:America/New_York
BEGIN:DAYLIGHT
DTSTART:20240310T030000
TZOFFSETFROM:-0500
TZOFFSETTO:-0400
TZNAME:EDT
END:DAYLIGHT
END:VTIMEZONE
END:VCALENDAR