BEGIN:VCALENDAR
VERSION:2.0
PRODID:-//wp-events-plugin.com//7.2.3.1//EN
TZID:America/New_York
X-WR-TIMEZONE:America/New_York
BEGIN:VEVENT
UID:275@clevelandphoto.org
DTSTART;TZID=America/New_York:20231207T193000
DTEND;TZID=America/New_York:20231207T220000
DTSTAMP:20231103T121643Z
URL:https://www.clevelandphoto.org/events/sig-group-meeting-focus-stacking
 /
SUMMARY:SIG Group Meeting - Focus Stacking
DESCRIPTION:Focus stacking using both in camera features and various softwa
 re programs will be the topic for CPS’ Special Interest Groups (SIG) mee
 ting on Thursday\, December 7 with Dave Busch.  After the presentation\, 
 we’ll break up into groups to share tips for working with Sony\, Canon\,
  Nikon\, and other cameras.\n\n&nbsp\;\n\n&nbsp\;
END:VEVENT
BEGIN:VTIMEZONE
TZID:America/New_York
X-LIC-LOCATION:America/New_York
BEGIN:STANDARD
DTSTART:20231105T010000
TZOFFSETFROM:-0400
TZOFFSETTO:-0500
TZNAME:EST
END:STANDARD
END:VTIMEZONE
END:VCALENDAR