BEGIN:VCALENDAR
VERSION:2.0
PRODID:-//wp-events-plugin.com//7.2.3.1//EN
TZID:America/New_York
X-WR-TIMEZONE:America/New_York
BEGIN:VEVENT
UID:88@clevelandphoto.org
DTSTART;TZID=America/New_York:20230601T193000
DTEND;TZID=America/New_York:20230601T193000
DTSTAMP:20230407T122236Z
URL:https://www.clevelandphoto.org/events/sig-group-meeting-drone-photogra
 phy/
SUMMARY:SIG Group Meeting - Drone Photography
DESCRIPTION:Dave will discuss drone photography. What are the different typ
 es of drones\, cameras and certifications needed. All of your questions on
  drone photography will be answered and the will be a drone demonstration.
  After the discussion we will break into groups based on camera models to 
 discuss camera specific issues.
END:VEVENT
BEGIN:VTIMEZONE
TZID:America/New_York
X-LIC-LOCATION:America/New_York
BEGIN:DAYLIGHT
DTSTART:20230312T030000
TZOFFSETFROM:-0500
TZOFFSETTO:-0400
TZNAME:EDT
END:DAYLIGHT
END:VTIMEZONE
END:VCALENDAR