BEGIN:VCALENDAR
VERSION:2.0
PRODID:-//wp-events-plugin.com//7.2.3.1//EN
TZID:America/New_York
X-WR-TIMEZONE:America/New_York
BEGIN:VEVENT
UID:279@clevelandphoto.org
DTSTART;TZID=America/New_York:20240104T193000
DTEND;TZID=America/New_York:20240104T220000
DTSTAMP:20231208T034039Z
URL:https://www.clevelandphoto.org/events/sig-group-meeting-concert-photog
 raphy/
SUMMARY:SIG Group Meeting - Concert Photography
DESCRIPTION:Concert Photography\, including tips on gaining access and tech
 niques for low light\, fast action shots will be the topic for CPS’ Spec
 ial Interest Groups (SIG) meeting on Thursday\, January 4 with Dave Busch.
   After the presentation\, we’ll break up into groups to share tips for
  working with Sony\, Canon\, Nikon\, and other cameras.\n\n&nbsp\;\n\n&nbs
 p\;
END:VEVENT
BEGIN:VTIMEZONE
TZID:America/New_York
X-LIC-LOCATION:America/New_York
BEGIN:STANDARD
DTSTART:20231105T010000
TZOFFSETFROM:-0400
TZOFFSETTO:-0500
TZNAME:EST
END:STANDARD
END:VTIMEZONE
END:VCALENDAR