BEGIN:VCALENDAR
VERSION:2.0
PRODID:-//wp-events-plugin.com//7.2.3.1//EN
TZID:America/New_York
X-WR-TIMEZONE:America/New_York
BEGIN:VEVENT
UID:623@clevelandphoto.org
DTSTART;TZID=America/New_York:20250306T193000
DTEND;TZID=America/New_York:20250306T223000
DTSTAMP:20250210T033802Z
URL:https://www.clevelandphoto.org/events/sig-group-meeting-cancelled-this
 -month/
SUMMARY:SIG Group Meeting - Cancelled this month
DESCRIPTION:The SIG Group Meeting is cancelled for this month.\n\n&nbsp\;
END:VEVENT
BEGIN:VTIMEZONE
TZID:America/New_York
X-LIC-LOCATION:America/New_York
BEGIN:STANDARD
DTSTART:20241103T010000
TZOFFSETFROM:-0400
TZOFFSETTO:-0500
TZNAME:EST
END:STANDARD
END:VTIMEZONE
END:VCALENDAR