BEGIN:VCALENDAR
VERSION:2.0
PRODID:-//wp-events-plugin.com//7.2.3.1//EN
TZID:America/New_York
X-WR-TIMEZONE:America/New_York
BEGIN:VEVENT
UID:133@clevelandphoto.org
DTSTART;TZID=America/New_York:20230803T193000
DTEND;TZID=America/New_York:20230803T193000
DTSTAMP:20230610T141234Z
URL:https://www.clevelandphoto.org/events/sig-group-meeting-black-and-whit
 e-photography/
SUMMARY:SIG Group Meeting - Black and White Photography
DESCRIPTION:Dave will discuss Black &amp\; White photography and will incl
 ude tips on special techniques\, exposure\, and creating images with impac
 t. After the discussion we will break into groups based on camera models t
 o discuss camera specific issues.\n\n&nbsp\;
END:VEVENT
BEGIN:VTIMEZONE
TZID:America/New_York
X-LIC-LOCATION:America/New_York
BEGIN:DAYLIGHT
DTSTART:20230312T030000
TZOFFSETFROM:-0500
TZOFFSETTO:-0400
TZNAME:EDT
END:DAYLIGHT
END:VTIMEZONE
END:VCALENDAR