BEGIN:VCALENDAR
VERSION:2.0
PRODID:-//wp-events-plugin.com//7.2.3.1//EN
TZID:America/New_York
X-WR-TIMEZONE:America/New_York
BEGIN:VEVENT
UID:36@clevelandphoto.org
DTSTART;TZID=America/New_York:20230406T193000
DTEND;TZID=America/New_York:20230406T193000
DTSTAMP:20230405T155638Z
URL:https://www.clevelandphoto.org/events/sig-group-meeting-astrophotograp
 hy/
SUMMARY:SIG Group Meeting - Astrophotography
DESCRIPTION:Dave will discuss all things related to shooting the night skie
 s. Photographing the moon\, star trails and more. Apps for night shooting 
 and camera gear will also be discussed. After the discussion we will break
  into groups based on camera models to discuss camera specific issues.
END:VEVENT
BEGIN:VTIMEZONE
TZID:America/New_York
X-LIC-LOCATION:America/New_York
BEGIN:DAYLIGHT
DTSTART:20230312T030000
TZOFFSETFROM:-0500
TZOFFSETTO:-0400
TZNAME:EDT
END:DAYLIGHT
END:VTIMEZONE
END:VCALENDAR