BEGIN:VCALENDAR
VERSION:2.0
PRODID:-//wp-events-plugin.com//7.2.3.1//EN
TZID:America/New_York
X-WR-TIMEZONE:America/New_York
BEGIN:VEVENT
UID:717@clevelandphoto.org
DTSTART;TZID=America/New_York:20251101T140000
DTEND;TZID=America/New_York:20251101T160000
DTSTAMP:20251022T022203Z
URL:https://www.clevelandphoto.org/events/sensor-cleaning-by-eric-wethingt
 on-photographer/
SUMMARY:Sensor Cleaning by Eric Wethington Photographer
DESCRIPTION:Free sensor cleaning is being offered for members only.  Clean
 ing will take place in the Gathering room at CPS from 2:00 PM to 4:00 PM. 
 Time slots are available every half hour during that time\, so you won't h
 ave to wait long to have your sensor cleaned.  Make sure you have a FULLY
  CHARGED BATTERY.  Camera body only\, no lenses.  Click here to reserve 
 your time slot.
END:VEVENT
BEGIN:VTIMEZONE
TZID:America/New_York
X-LIC-LOCATION:America/New_York
BEGIN:DAYLIGHT
DTSTART:20250309T030000
TZOFFSETFROM:-0500
TZOFFSETTO:-0400
TZNAME:EDT
END:DAYLIGHT
END:VTIMEZONE
END:VCALENDAR